BEGIN:VCALENDAR
VERSION:2.0
PRODID:HAZ Events
BEGIN:VEVENT
UID:
DTSTAMP:1776858613
SUMMARY:Leben nach Tschnernobyl
LOCATION:
CLASS:PUBLIC
DTSTART:20260430T080000Z
DTEND:20260430T100000Z
END:VEVENT
END:VCALENDAR