BEGIN:VCALENDAR
VERSION:2.0
PRODID:HAZ Events
BEGIN:VEVENT
UID:
DTSTAMP:1776857473
SUMMARY:Leben nach Tschnernobyl
LOCATION:
CLASS:PUBLIC
DTSTART:20260526T080000Z
DTEND:20260526T160000Z
END:VEVENT
END:VCALENDAR