BEGIN:VCALENDAR
VERSION:2.0
PRODID:HAZ Events
BEGIN:VEVENT
UID:
DTSTAMP:1776835306
SUMMARY:Stadtrundfahrt mit dem Solar-Oldtimerbus
LOCATION:Tourist-Information
CLASS:PUBLIC
DTSTART:20260502T093000Z
DTEND:20260502T113000Z
END:VEVENT
END:VCALENDAR