BEGIN:VCALENDAR
VERSION:2.0
PRODID:HAZ Events
BEGIN:VEVENT
UID:
DTSTAMP:1776846267
SUMMARY:Illumination im Gro&szlig;en Garten
LOCATION:Gro&szlig;er Garten
CLASS:PUBLIC
DTSTART:20260508T200000Z
DTEND:20260508T210000Z
END:VEVENT
END:VCALENDAR