BEGIN:VCALENDAR
VERSION:2.0
PRODID:HAZ Events
BEGIN:VEVENT
UID:
DTSTAMP:1776840741
SUMMARY:Illumination im Gro&szlig;en Garten
LOCATION:Gro&szlig;er Garten
CLASS:PUBLIC
DTSTART:20260501T200000Z
DTEND:20260501T210000Z
END:VEVENT
END:VCALENDAR