BEGIN:VCALENDAR
VERSION:2.0
PRODID:HAZ Events
BEGIN:VEVENT
UID:
DTSTAMP:1776835308
SUMMARY:K&ouml;nigliche Gartenpracht
LOCATION:Museum Schloss Herrenhausen
CLASS:PUBLIC
DTSTART:20260502T090000Z
DTEND:20260502T110000Z
END:VEVENT
END:VCALENDAR