BEGIN:VCALENDAR
VERSION:2.0
PRODID:HAZ Events
BEGIN:VEVENT
UID:
DTSTAMP:1776858499
SUMMARY:Finissage kuvert&uuml;re herb: astimatic unchained
LOCATION:
CLASS:PUBLIC
DTSTART:20260430T170000Z
DTEND:20260430T190000Z
END:VEVENT
END:VCALENDAR