BEGIN:VCALENDAR
VERSION:2.0
PRODID:HAZ Events
BEGIN:VEVENT
UID:
DTSTAMP:1776858614
SUMMARY:Unterwegs mit Hexe Ruby Hannoraxa
LOCATION:Altes Rathaus
CLASS:PUBLIC
DTSTART:20260430T130000Z
DTEND:20260430T150000Z
END:VEVENT
END:VCALENDAR