BEGIN:VCALENDAR
VERSION:2.0
PRODID:HAZ Events
BEGIN:VEVENT
UID:
DTSTAMP:1776851602
SUMMARY:Rock into May
LOCATION:
CLASS:PUBLIC
DTSTART:20260430T190000Z
DTEND:20260430T210000Z
END:VEVENT
END:VCALENDAR