BEGIN:VCALENDAR
VERSION:2.0
PRODID:HAZ Events
BEGIN:VEVENT
UID:
DTSTAMP:1776851644
SUMMARY:Mathias Richling
LOCATION:Stadtteilzentrum Wei&szlig;e Rose
CLASS:PUBLIC
DTSTART:20260430T180000Z
DTEND:20260430T200000Z
END:VEVENT
END:VCALENDAR