BEGIN:VCALENDAR
VERSION:2.0
PRODID:HAZ Events
BEGIN:VEVENT
UID:
DTSTAMP:1776851433
SUMMARY:Foxy Brown (engl. OV)
LOCATION:Kino im K&uuml;nstlerhaus
CLASS:PUBLIC
DTSTART:20260430T180000Z
DTEND:20260430T200000Z
END:VEVENT
END:VCALENDAR