BEGIN:VCALENDAR
VERSION:2.0
PRODID:HAZ Events
BEGIN:VEVENT
UID:
DTSTAMP:1776858499
SUMMARY:Jean-Michel Basquiat: The Radiant Child (engl. OmU)
LOCATION:Kino im K&uuml;nstlerhaus
CLASS:PUBLIC
DTSTART:20260430T153000Z
DTEND:20260430T173000Z
END:VEVENT
END:VCALENDAR