BEGIN:VCALENDAR
VERSION:2.0
PRODID:HAZ Events
BEGIN:VEVENT
UID:
DTSTAMP:1776858661
SUMMARY:Candid Comedy
LOCATION:TAK - Die Kabarett-B&uuml;hne
CLASS:PUBLIC
DTSTART:20260430T174500Z
DTEND:20260430T194500Z
END:VEVENT
END:VCALENDAR