BEGIN:VCALENDAR
VERSION:2.0
PRODID:HAZ Events
BEGIN:VEVENT
UID:
DTSTAMP:1776821631
SUMMARY:Krimitour: Wenn die Stadt den Atem anh&auml;lt
LOCATION:Tourist-Information
CLASS:PUBLIC
DTSTART:20260506T150000Z
DTEND:20260506T170000Z
END:VEVENT
END:VCALENDAR