BEGIN:VCALENDAR
VERSION:2.0
PRODID:HAZ Events
BEGIN:VEVENT
UID:
DTSTAMP:1776771686
SUMMARY:Very British &ndash; auf den Spuren der Personalunion
LOCATION:
CLASS:PUBLIC
DTSTART:20260509T120000Z
DTEND:20260509T140000Z
END:VEVENT
END:VCALENDAR