BEGIN:VCALENDAR
VERSION:2.0
PRODID:HAZ Events
BEGIN:VEVENT
UID:
DTSTAMP:1776939519
SUMMARY:Limmer Music &amp; Talk In The Round
LOCATION:
CLASS:PUBLIC
DTSTART:20260423T170000Z
DTEND:20260423T190000Z
END:VEVENT
END:VCALENDAR