BEGIN:VCALENDAR
VERSION:2.0
PRODID:HAZ Events
BEGIN:VEVENT
UID:
DTSTAMP:1776875118
SUMMARY:Eine geniale Idee
LOCATION:Neues Theater
CLASS:PUBLIC
DTSTART:20260531T140000Z
DTEND:20260531T160000Z
END:VEVENT
END:VCALENDAR