BEGIN:VCALENDAR
VERSION:2.0
PRODID:HAZ Events
BEGIN:VEVENT
UID:
DTSTAMP:1776875246
SUMMARY:Eine geniale Idee
LOCATION:Neues Theater
CLASS:PUBLIC
DTSTART:20260521T173000Z
DTEND:20260521T193000Z
END:VEVENT
END:VCALENDAR