BEGIN:VCALENDAR
VERSION:2.0
PRODID:HAZ Events
BEGIN:VEVENT
UID:
DTSTAMP:1776875256
SUMMARY:Eine geniale Idee
LOCATION:Neues Theater
CLASS:PUBLIC
DTSTART:20260502T173000Z
DTEND:20260502T193000Z
END:VEVENT
END:VCALENDAR