BEGIN:VCALENDAR
VERSION:2.0
PRODID:HAZ Events
BEGIN:VEVENT
UID:
DTSTAMP:1776853984
SUMMARY:Tafiti &ndash; Ab durch die W&uuml;ste
LOCATION:Apollo
CLASS:PUBLIC
DTSTART:20260426T120000Z
DTEND:20260426T140000Z
END:VEVENT
END:VCALENDAR