BEGIN:VCALENDAR
VERSION:2.0
PRODID:HAZ Events
BEGIN:VEVENT
UID:
DTSTAMP:1776763479
SUMMARY:Garagenflohmarkt
LOCATION:
CLASS:PUBLIC
DTSTART:20260510T080000Z
DTEND:20260510T130000Z
END:VEVENT
END:VCALENDAR