BEGIN:VCALENDAR
VERSION:2.0
PRODID:HAZ Events
BEGIN:VEVENT
UID:
DTSTAMP:1776759157
SUMMARY:Himmelfahrt auf dem Gutshof Rethmar
LOCATION:Gutshof Rethmar
CLASS:PUBLIC
DTSTART:20260514T120000Z
DTEND:20260514T140000Z
END:VEVENT
END:VCALENDAR