BEGIN:VCALENDAR
VERSION:2.0
PRODID:HAZ Events
BEGIN:VEVENT
UID:
DTSTAMP:1776858545
SUMMARY:&Auml;ktschen mit B&uuml;chern: &bdquo;Lauter V&ouml;gel&ldquo;
LOCATION:Stadt- und Schulbibliothek Badenstedt
CLASS:PUBLIC
DTSTART:20260430T141500Z
DTEND:20260430T151500Z
END:VEVENT
END:VCALENDAR