BEGIN:VCALENDAR
VERSION:2.0
PRODID:HAZ Events
BEGIN:VEVENT
UID:
DTSTAMP:1776840899
SUMMARY:Bauen mit Lego
LOCATION:Stadtbibliothek Linden
CLASS:PUBLIC
DTSTART:20260501T130000Z
DTEND:20260501T150000Z
END:VEVENT
END:VCALENDAR