BEGIN:VCALENDAR
VERSION:2.0
PRODID:HAZ Events
BEGIN:VEVENT
UID:
DTSTAMP:1776759076
SUMMARY:Bilderbuchkino
LOCATION:Stadtbibliothek Vahrenwald
CLASS:PUBLIC
DTSTART:20260514T140000Z
DTEND:20260514T160000Z
END:VEVENT
END:VCALENDAR