BEGIN:VCALENDAR
VERSION:2.0
PRODID:HAZ Events
BEGIN:VEVENT
UID:
DTSTAMP:1776851721
SUMMARY:Faust in den Mai
LOCATION:Faust 60er Jahre Halle
CLASS:PUBLIC
DTSTART:20260430T200000Z
DTEND:20260430T220000Z
END:VEVENT
END:VCALENDAR