BEGIN:VCALENDAR
VERSION:2.0
PRODID:HAZ Events
BEGIN:VEVENT
UID:
DTSTAMP:1776851642
SUMMARY:Ping Pong Paradise
LOCATION:Kino im Sprengel
CLASS:PUBLIC
DTSTART:20260430T183000Z
DTEND:20260430T203000Z
END:VEVENT
END:VCALENDAR