BEGIN:VCALENDAR
VERSION:2.0
PRODID:HAZ Events
BEGIN:VEVENT
UID:
DTSTAMP:1776776094
SUMMARY:Fietsenb&ouml;rse
LOCATION:Ernst-August-Platz
CLASS:PUBLIC
DTSTART:20260509T080000Z
DTEND:20260509T130000Z
END:VEVENT
END:VCALENDAR