BEGIN:VCALENDAR
VERSION:2.0
PRODID:HAZ Events
BEGIN:VEVENT
UID:
DTSTAMP:1776880464
SUMMARY:Seniorenkaffeetafel
LOCATION:
CLASS:PUBLIC
DTSTART:20260513T130000Z
DTEND:20260513T150000Z
END:VEVENT
END:VCALENDAR