BEGIN:VCALENDAR
VERSION:2.0
PRODID:HAZ Events
BEGIN:VEVENT
UID:
DTSTAMP:1776805257
SUMMARY:Calenberger Autorenkreis
LOCATION:Salon 18
CLASS:PUBLIC
DTSTART:20260507T170000Z
DTEND:20260507T190000Z
END:VEVENT
END:VCALENDAR