BEGIN:VCALENDAR
VERSION:2.0
PRODID:HAZ Events
BEGIN:VEVENT
UID:
DTSTAMP:1776851447
SUMMARY:Tanz in den Heinz
LOCATION:B&eacute;i Ch&eacute;z Heinz
CLASS:PUBLIC
DTSTART:20260430T210000Z
DTEND:20260430T230000Z
END:VEVENT
END:VCALENDAR