BEGIN:VCALENDAR
VERSION:2.0
PRODID:HAZ Events
BEGIN:VEVENT
UID:
DTSTAMP:1776821784
SUMMARY:Filmabend: Seelzes &auml;lteste Apotheke
LOCATION:
CLASS:PUBLIC
DTSTART:20260506T160000Z
DTEND:20260506T180000Z
END:VEVENT
END:VCALENDAR