BEGIN:VCALENDAR
VERSION:2.0
PRODID:HAZ Events
BEGIN:VEVENT
UID:
DTSTAMP:1776786158
SUMMARY:Schach spielen und lernen
LOCATION:Ernst-Korte-Haus
CLASS:PUBLIC
DTSTART:20260717T070000Z
DTEND:20260717T090000Z
END:VEVENT
END:VCALENDAR