BEGIN:VCALENDAR
VERSION:2.0
PRODID:HAZ Events
BEGIN:VEVENT
UID:
DTSTAMP:1776684523
SUMMARY:J&egrave;r&egrave;my Gob&egrave;
LOCATION:
CLASS:PUBLIC
DTSTART:20260719T090000Z
DTEND:20260719T140000Z
END:VEVENT
END:VCALENDAR