BEGIN:VCALENDAR
VERSION:2.0
PRODID:HAZ Events
BEGIN:VEVENT
UID:
DTSTAMP:1776767773
SUMMARY:Probe Posaunenchor
LOCATION:
CLASS:PUBLIC
DTSTART:20260720T163000Z
DTEND:20260720T183000Z
END:VEVENT
END:VCALENDAR