BEGIN:VCALENDAR
VERSION:2.0
PRODID:HAZ Events
BEGIN:VEVENT
UID:
DTSTAMP:1776877586
SUMMARY:&Ouml;ffentliche Ortsf&uuml;hrung Steinhude
LOCATION:
CLASS:PUBLIC
DTSTART:20260428T150000Z
DTEND:20260428T170000Z
END:VEVENT
END:VCALENDAR