BEGIN:VCALENDAR
VERSION:2.0
PRODID:HAZ Events
BEGIN:VEVENT
UID:
DTSTAMP:1776759101
SUMMARY:Bauen mit Lego
LOCATION:Stadtbibliothek Roderbruch
CLASS:PUBLIC
DTSTART:20260515T110000Z
DTEND:20260515T143000Z
END:VEVENT
END:VCALENDAR