BEGIN:VCALENDAR
VERSION:2.0
PRODID:HAZ Events
BEGIN:VEVENT
UID:
DTSTAMP:1776840821
SUMMARY:Bruchmeister-Tour
LOCATION:Tourist-Information
CLASS:PUBLIC
DTSTART:20260501T150000Z
DTEND:20260501T170000Z
END:VEVENT
END:VCALENDAR