BEGIN:VCALENDAR
VERSION:2.0
PRODID:HAZ Events
BEGIN:VEVENT
UID:
DTSTAMP:1776791198
SUMMARY:Musik-Gesangs-Gruppe &bdquo;Koro&ldquo;
LOCATION:Kulturtreff Vahrenheide
CLASS:PUBLIC
DTSTART:20260508T150000Z
DTEND:20260508T180000Z
END:VEVENT
END:VCALENDAR