BEGIN:VCALENDAR
VERSION:2.0
PRODID:HAZ Events
BEGIN:VEVENT
UID:
DTSTAMP:1776821696
SUMMARY:Folkloregruppe Anatolien
LOCATION:Kulturtreff Vahrenheide
CLASS:PUBLIC
DTSTART:20260506T133000Z
DTEND:20260506T164500Z
END:VEVENT
END:VCALENDAR