BEGIN:VCALENDAR
VERSION:2.0
PRODID:HAZ Events
BEGIN:VEVENT
UID:
DTSTAMP:1776767730
SUMMARY:Debattierclub Hannover
LOCATION:Conti-Hochhaus
CLASS:PUBLIC
DTSTART:20260720T170000Z
DTEND:20260720T190000Z
END:VEVENT
END:VCALENDAR