BEGIN:VCALENDAR
VERSION:2.0
PRODID:HAZ Events
BEGIN:VEVENT
UID:
DTSTAMP:1776767757
SUMMARY:Yoga im Rollstuhl
LOCATION:FZH Linden
CLASS:PUBLIC
DTSTART:20260720T160000Z
DTEND:20260720T170000Z
END:VEVENT
END:VCALENDAR