BEGIN:VCALENDAR
VERSION:2.0
PRODID:HAZ Events
BEGIN:VEVENT
UID:
DTSTAMP:1776851635
SUMMARY:Dienstagsmaler
LOCATION:
CLASS:PUBLIC
DTSTART:20260721T080000Z
DTEND:20260721T110000Z
END:VEVENT
END:VCALENDAR