BEGIN:VCALENDAR
VERSION:2.0
PRODID:HAZ Events
BEGIN:VEVENT
UID:
DTSTAMP:1776851464
SUMMARY:Blickpunkt Auge
LOCATION:
CLASS:PUBLIC
DTSTART:20260721T070000Z
DTEND:20260721T100000Z
END:VEVENT
END:VCALENDAR