BEGIN:VCALENDAR
VERSION:2.0
PRODID:HAZ Events
BEGIN:VEVENT
UID:
DTSTAMP:1776767564
SUMMARY:Qigong
LOCATION:Caroline-Herschel-Realschule
CLASS:PUBLIC
DTSTART:20260720T150000Z
DTEND:20260720T163000Z
END:VEVENT
END:VCALENDAR