BEGIN:VCALENDAR
VERSION:2.0
PRODID:HAZ Events
BEGIN:VEVENT
UID:
DTSTAMP:1776767510
SUMMARY:Familien-Caf&eacute; Vielfalt
LOCATION:
CLASS:PUBLIC
DTSTART:20260720T130000Z
DTEND:20260720T143000Z
END:VEVENT
END:VCALENDAR