BEGIN:VCALENDAR
VERSION:2.0
PRODID:HAZ Events
BEGIN:VEVENT
UID:
DTSTAMP:1776689391
SUMMARY:Ki&amp;Ju Gruppen
LOCATION:
CLASS:PUBLIC
DTSTART:20260718T080000Z
DTEND:20260718T100000Z
END:VEVENT
END:VCALENDAR