BEGIN:VCALENDAR
VERSION:2.0
PRODID:HAZ Events
BEGIN:VEVENT
UID:
DTSTAMP:1776781041
SUMMARY:N&auml;h-Caf&eacute;
LOCATION:Begegnungsst&auml;tte &bdquo;Ecki&ldquo;
CLASS:PUBLIC
DTSTART:20260717T133000Z
DTEND:20260717T153000Z
END:VEVENT
END:VCALENDAR