BEGIN:VCALENDAR
VERSION:2.0
PRODID:HAZ Events
BEGIN:VEVENT
UID:
DTSTAMP:1776771877
SUMMARY:Offener Elterntreff
LOCATION:
CLASS:PUBLIC
DTSTART:20260720T073000Z
DTEND:20260720T093000Z
END:VEVENT
END:VCALENDAR