BEGIN:VCALENDAR
VERSION:2.0
PRODID:HAZ Events
BEGIN:VEVENT
UID:
DTSTAMP:1776840866
SUMMARY:Bingo im Gutshof mit Michael Th&uuml;rnau
LOCATION:Gutshof Rethmar
CLASS:PUBLIC
DTSTART:20260501T130000Z
DTEND:20260501T150000Z
END:VEVENT
END:VCALENDAR